BEGIN:VCALENDAR
VERSION:2.0
PRODID:gruene-mitte.com
METHOD:PUBLISH
BEGIN:VTIMEZONE
TZID:Europe/Berlin
X-LIC-LOCATION:Europe/Berlin
BEGIN:DAYLIGHT
TZOFFSETFROM:+0100
TZOFFSETTO:+0200
TZNAME:CEST
DTSTART:19700329T020000
RRULE:FREQ=YEARLY;INTERVAL=1;BYDAY=-1SU;BYMONTH=3
END:DAYLIGHT
BEGIN:STANDARD
TZOFFSETFROM:+0200
TZOFFSETTO:+0100
TZNAME:CET
DTSTART:19701025T030000
RRULE:FREQ=YEARLY;INTERVAL=1;BYDAY=-1SU;BYMONTH=10
END:STANDARD
END:VTIMEZONE
BEGIN:VEVENT
UID:b782c4e1bf5b6318eac7790fbb6d4c16@gruene-mitte.com
URL;VALUE=URI:https://gruene-mitte.com/termine/ag-stadtentwicklung-verkeh
 r-4/
LOCATION:Landesgeschäftsstelle oder bei Zoom, Burchardstr. 19, Hamburg
SUMMARY:AG Stadtentwicklung & Verkehr
DESCRIPTION;ALTREP="data:text/html,%0A%3Cp%3EAuch%20in%20unserer%20April-
 Sitzung%20sprechen%20wir%20wieder%20%C3%BCber%20aktuelle%20Themen%20im%20
 Verkehr%20und%20der%20Stadtplanung%20%26amp%3B%20Entwicklungen%20im%20Bez
 irk.%20Komm%20gern%20dazu%20und%20bring%20deine%20Perspektive%20ein%21%20
 Stattfinden%20wird%20das%20Ganze%20hybrid%3A%20Entweder%20in%20der%20Land
 esgesch%C3%A4ftsstelle%20oder%20digital%20bei%20Zoom%20%28den%20Link%20er
 haltet%20Ihr%20%C3%BCber%20die%20u.g.%20Adressen%29%3C%2Fp%3E%0A%0A%0A%0A
 %3Cp%3EDie%20n%C3%A4chsten%20Termine%20folgen%20dann%20am%2011.05.%20und%
 20am%2022.06.%3C%2Fp%3E%0A%0A%0A%0A%3Cp%3EBei%20Fragen%20melde%20dich%20g
 ern%20bei%20%3Ca%20href%3D%22mailto%3Alars.hansen%40hamburg.gruene%22%3El
 ars.hansen%40hamburg.gruene%3C%2Fa%3E%20und%2Foder%20%3Ca%20href%3D%22mai
 lto%3Atheresa.rothberg%40hamburg.gruene.de%22%3Etheresa.rothberg%40hambur
 g.gruene.de%3C%2Fa%3E%3C%2Fp%3E%0A%0A%0A%0A%3Cp%3E%3C%2Fp%3E%0A":Auch in 
 unserer April-Sitzung sprechen wir wieder über aktuelle Themen im Verkeh
 r und der Stadtplanung & Entwicklungen im Bezirk. Komm gern dazu und brin
 g deine Perspektive ein! Stattfinden wird das Ganze hybrid: Entweder in d
 er Landesgeschäftsstelle oder digital bei Zoom (den Link erhaltet Ihr ü
 ber die u.g. Adressen)\n\nDie nächsten Termine folgen dann am 11.05. und
  am 22.06.\n\nBei Fragen melde dich gern bei lars.hansen@hamburg.gruene u
 nd/oder theresa.rothberg@hamburg.gruene.de
CLASS:PUBLIC
DTSTART;TZID=Europe/Berlin:20260422T190000
DTEND;TZID=Europe/Berlin:20260422T200000
DTSTAMP:20260420T032837
END:VEVENT
END:VCALENDAR