BEGIN:VCALENDAR
VERSION:2.0
PRODID:gruene-mitte.com
METHOD:PUBLISH
BEGIN:VTIMEZONE
TZID:Europe/Berlin
X-LIC-LOCATION:Europe/Berlin
BEGIN:DAYLIGHT
TZOFFSETFROM:+0100
TZOFFSETTO:+0200
TZNAME:CEST
DTSTART:19700329T020000
RRULE:FREQ=YEARLY;INTERVAL=1;BYDAY=-1SU;BYMONTH=3
END:DAYLIGHT
BEGIN:STANDARD
TZOFFSETFROM:+0200
TZOFFSETTO:+0100
TZNAME:CET
DTSTART:19701025T030000
RRULE:FREQ=YEARLY;INTERVAL=1;BYDAY=-1SU;BYMONTH=10
END:STANDARD
END:VTIMEZONE
BEGIN:VEVENT
UID:85a4083a001966fd83d939ca16147188@gruene-mitte.com
URL;VALUE=URI:https://gruene-mitte.com/termine/der-gruene-blick-update-au
 s-der-bezirksfraktion/
LOCATION:Online bei Zoom
SUMMARY:Der Grüne Blick – Updates aus der Bezirksfraktion
DESCRIPTION;ALTREP="data:text/html,%0A%3Cp%3EUnsere%20Bezirksfraktion%20b
 ewegt%20viel%20vor%20Ort%20und%20genau%20das%20wollen%20wir%20euch%20zeig
 en%21%20Bei%20unserem%20Infoabend%20geben%20wir%20euch%20konkrete%20Einbl
 icke%20in%20unsere%20Arbeit%2C%20erkl%C3%A4ren%2C%20woran%20wir%20aktuell
 %20arbeiten%20und%20welche%20Themen%20den%20Bezirk%20wirklich%20voranbrin
 gen.%20Ihr%20erfahrt%20aus%20erster%20Hand%2C%20wie%20Entscheidungen%20en
 tstehen%2C%20welche%20Herausforderungen%20es%20gibt%20und%20wo%20wir%20ak
 tiv%20gestalten.%20Vor%20allem%20aber%20m%C3%B6chten%20wir%20mit%20euch%2
 0ins%20Gespr%C3%A4ch%20kommen%2C%20eure%20Fragen%20h%C3%B6ren%20und%20eur
 e%20Perspektiven%20aufnehmen.%3C%2Fp%3E%0A%0A%0A%0A%3Cp%3ESchaut%20gerne%
 20bei%20Zoom%20rein%21%20Den%20Einwahl-Link%20erhaltet%20Ihr%20%C3%BCber%
 20fraktion%40gruene-mitte.com%20oder%20kreisverband%40gruene-mitte.com%3C
 %2Fp%3E%0A%0A%0A%0A%3Cp%3E%3C%2Fp%3E%0A":Unsere Bezirksfraktion bewegt vi
 el vor Ort und genau das wollen wir euch zeigen! Bei unserem Infoabend ge
 ben wir euch konkrete Einblicke in unsere Arbeit\, erklären\, woran wir 
 aktuell arbeiten und welche Themen den Bezirk wirklich voranbringen. Ihr 
 erfahrt aus erster Hand\, wie Entscheidungen entstehen\, welche Herausfor
 derungen es gibt und wo wir aktiv gestalten. Vor allem aber möchten wir 
 mit euch ins Gespräch kommen\, eure Fragen hören und eure Perspektiven 
 aufnehmen.\n\nSchaut gerne bei Zoom rein! Den Einwahl-Link erhaltet Ihr 
 über fraktion@gruene-mitte.com oder kreisverband@gruene-mitte.com
CLASS:PUBLIC
DTSTART;TZID=Europe/Berlin:20260504T190000
DTEND;TZID=Europe/Berlin:20260504T200000
DTSTAMP:20260423T144203
END:VEVENT
END:VCALENDAR