BEGIN:VCALENDAR
VERSION:2.0
PRODID:gruene-mitte.com
METHOD:PUBLISH
BEGIN:VTIMEZONE
TZID:Europe/Berlin
X-LIC-LOCATION:Europe/Berlin
BEGIN:DAYLIGHT
TZOFFSETFROM:+0100
TZOFFSETTO:+0200
TZNAME:CEST
DTSTART:19700329T020000
RRULE:FREQ=YEARLY;INTERVAL=1;BYDAY=-1SU;BYMONTH=3
END:DAYLIGHT
BEGIN:STANDARD
TZOFFSETFROM:+0200
TZOFFSETTO:+0100
TZNAME:CET
DTSTART:19701025T030000
RRULE:FREQ=YEARLY;INTERVAL=1;BYDAY=-1SU;BYMONTH=10
END:STANDARD
END:VTIMEZONE
BEGIN:VEVENT
UID:4cd23a867785782483ea6052279bfd8f@gruene-mitte.com
URL;VALUE=URI:https://gruene-mitte.com/termine/sommerfest-des-kreisverban
 ds-mitte/
LOCATION:Vereinshaus des Gartenfreunde Rudolf-Roß-Allee e.V., Rudolf-Ro
 ß-Allee, Parzelle 291, Hamburg
SUMMARY:Sommerfest des Kreisverbands Mitte
DESCRIPTION;ALTREP="data:text/html,%0A%3Cp%3EWir%20treffen%20uns%20wie%20
 angek%C3%BCndigt%20%3Cstrong%3Eab%2015%20Uhr%20im%20Vereinshaus%20der%20G
 artenfreunde%20in%20der%20Rudolf-Ro%C3%9F-Allee%3C%2Fstrong%3E%20%28%3Ca%
 20href%3D%22https%3A%2F%2Fwww.google.de%2Fmaps%2Fplace%2FGartenfreunde%2B
 Rudolf-Ro%25C3%259F-Allee%2Be.V.%2B-%2BKGV%2B153%2F%4053.5619764%2C10.100
 802%2C17.87z%2Fdata%3D%214m6%213m5%211s0x47b18c7230781e57%3A0xf060bf06e69
 5bf97%218m2%213d53.5621545%214d10.1010266%2116s%252Fg%252F11f03s_9rr%3Fen
 try%3Dttu%22%20rel%3D%22noreferrer%20noopener%22%20target%3D%22_blank%22%
 3Esiehe%20Google-Maps%3C%2Fa%3E%29.%3C%2Fp%3E%0A%0A%0A%0A%3Cp%3E%3Cstrong
 %3EEs%20w%C3%A4re%20toll%2C%20wenn%20ihr%20uns%20eure%20Teilnahme%20kurz%
 20mit%20einer%20Mail%20an%20%3Ca%20href%3D%22mailto%3Ajanna.gehrke%40hamb
 urg.gruene.de%22%20rel%3D%22noreferrer%20noopener%22%20target%3D%22_blank
 %22%3Ejanna.gehrke%40hamburg.gruene.de%3C%2Fa%3E%20best%C3%A4tigen%20k%C3
 %B6nntet.%3C%2Fstrong%3E%20Das%20muss%20nicht%20unbedingt%20sein%20-%20ab
 er%20es%20w%C3%A4re%20sch%C3%B6n%2C%20weil%20wir%20dann%20besser%20planen
 %20k%C3%B6nnten%20-%20vor%20allem%20beim%20Buffet%21%3C%2Fp%3E%0A%0A%0A%0
 A%3Cp%3EGedacht%20ist%20das%20Sommerfest%20n%C3%A4mlich%20so%2C%20dass%20
 wir%20ein%20%3Cstrong%3EBuffet%20zusammenstellen%2C%20zu%20dem%20jede%2Ar
 %20etwas%20mitbringt%3C%2Fstrong%3E.%20Eine%20K%C3%BCche%2C%20ein%20Grill
 %2C%20Besteck%20und%20Geschirr%20sowie%20Sitzgelegenheiten%20drinnen%20wi
 e%20drau%C3%9Fen%20sind%20vorhanden%2C%20sodass%20wir%20vor%20Ort%20gemei
 nsam%20essen%20k%C3%B6nnen.%20Ob%20Kuchen%2C%20Salat%2C%20Brot%20oder%20D
 ip%3A%20Jeder%20Beitrag%20zum%20Buffet%20ist%20willkommen%21%20F%C3%BCr%2
 0Musik%2C%20Getr%C3%A4nke%20und%20ein%20paar%20Spiele%20f%C3%BCr%20drau%C
 3%9Fen%20sorgen%20wir.%26nbsp%3B%3C%2Fp%3E%0A%0A%0A%0A%3Cp%3E%3Cstrong%3E
 In%20Kurzform%20hei%C3%9Ft%20das%3A%3C%2Fstrong%3E%3C%2Fp%3E%0A%0A%0A%0A%
 3Cp%3E%3Cstrong%3EWas%3F%26nbsp%3B%3C%2Fstrong%3E%3C%2Fp%3E%0A%0A%0A%0A%3
 Cp%3ESchnacken%20-%20feiern%20-%20Essen%20und%20Trinken%20-%20Pl%C3%A4ne%
 20schmieden%3C%2Fp%3E%0A%0A%0A%0A%3Cp%3EWir%20freuen%20uns%20darauf%2C%20
 mit%20euch%20bei%20leckerem%20Essen%20und%20einem%20k%C3%BChlen%20Getr%C3
 %A4nk%20zu%20feiern.%3Cbr%3E%3C%2Fp%3E%0A%0A%0A%0A%3Cp%3E%3Cstrong%3EWann
 %3F%3C%2Fstrong%3E%3C%2Fp%3E%0A%0A%0A%0A%3Cp%3ESamstag%2C%202.9.2023%20ab
 %2015%3A00%20Uhr%3Cbr%3E%3C%2Fp%3E%0A%0A%0A%0A%3Cp%3E%3Cstrong%3EWo%3F%26
 nbsp%3B%3C%2Fstrong%3E%3C%2Fp%3E%0A%0A%0A%0A%3Cp%3EVereinshaus%20des%26nb
 sp%3BGartenfreunde%20Rudolf-Ro%C3%9F-Allee%20e.V.%20in%20Horn%3C%2Fp%3E%0
 A%0A%0A%0A%3Cp%3ERudolf-Ro%C3%9F-Allee%2C%20Parzelle%20291%3Cbr%3E%3C%2Fp
 %3E%0A%0A%0A%0A%3Cp%3E%3Cstrong%3EDie%20Anreise%20ist%20mit%20dem%20Rad%2
 0oder%20mit%20%C3%96ffis%20gut%20machbar.%26nbsp%3B%3C%2Fstrong%3E%3C%2Fp
 %3E%0A%0A%0A%0A%3Cp%3EDer%20Bus%20261%20bzw.%20X61%26nbsp%3Bh%C3%A4lt%205
 0%20m%20entfernt%20vom%20Vereinshaus%20%28Haltestelle%20Georg-Blume-Stra%
 C3%9Fe%29.%20Dieser%20f%C3%A4hrt%20u.a.%26nbsp%3Bab%20Wandsbeker%20Chauss
 ee%20%28S1%20und%20U1%29%20oder%20Burgstra%C3%9Fe%20%28U2%29%20und%20f%C3
 %A4hrt%20auch%20am%20Abend%20noch%20regelm%C3%A4%C3%9Fig%20zur%C3%BCck.%2
 6nbsp%3B%3C%2Fp%3E%0A%0A%0A%0A%3Cp%3EWir%20freuen%20uns%2C%20euch%20dort%
 20zu%20treffen%20und%20mit%20euch%20anzusto%C3%9Fen%21%3C%2Fp%3E%0A":Wir 
 treffen uns wie angekündigt ab 15 Uhr im Vereinshaus der Gartenfreunde i
 n der Rudolf-Roß-Allee (siehe Google-Maps).\n\nEs wäre toll\, wenn ihr 
 uns eure Teilnahme kurz mit einer Mail an janna.gehrke@hamburg.gruene.de 
 bestätigen könntet. Das muss nicht unbedingt sein - aber es wäre schö
 n\, weil wir dann besser planen könnten - vor allem beim Buffet!\n\nGeda
 cht ist das Sommerfest nämlich so\, dass wir ein Buffet zusammenstellen\
 , zu dem jede*r etwas mitbringt. Eine Küche\, ein Grill\, Besteck und Ge
 schirr sowie Sitzgelegenheiten drinnen wie draußen sind vorhanden\, soda
 ss wir vor Ort gemeinsam essen können. Ob Kuchen\, Salat\, Brot oder Dip
 : Jeder Beitrag zum Buffet ist willkommen! Für Musik\, Getränke und ein
  paar Spiele für draußen sorgen wir. \n\nIn Kurzform heißt das:\n\nWa
 s? \n\nSchnacken - feiern - Essen und Trinken - Pläne schmieden\n\nWir 
 freuen uns darauf\, mit euch bei leckerem Essen und einem kühlen Geträn
 k zu feiern.\n\nWann?\n\nSamstag\, 2.9.2023 ab 15:00 Uhr\n\nWo? \n\nVere
 inshaus des Gartenfreunde Rudolf-Roß-Allee e.V. in Horn\n\nRudolf-Roß-
 Allee\, Parzelle 291\n\nDie Anreise ist mit dem Rad oder mit Öffis gut m
 achbar. \n\nDer Bus 261 bzw. X61 hält 50 m entfernt vom Vereinshaus (H
 altestelle Georg-Blume-Straße). Dieser fährt u.a. ab Wandsbeker Chauss
 ee (S1 und U1) oder Burgstraße (U2) und fährt auch am Abend noch regelm
 äßig zurück. \n\nWir freuen uns\, euch dort zu treffen und mit euch a
 nzustoßen!
CLASS:PUBLIC
DTSTART;TZID=Europe/Berlin:20230902T150000
DTEND;TZID=Europe/Berlin:20230902T220000
DTSTAMP:20260423T070805
END:VEVENT
END:VCALENDAR