BEGIN:VCALENDAR
VERSION:2.0
PRODID:gruene-mitte.com
METHOD:PUBLISH
BEGIN:VTIMEZONE
TZID:Europe/Berlin
X-LIC-LOCATION:Europe/Berlin
BEGIN:DAYLIGHT
TZOFFSETFROM:+0100
TZOFFSETTO:+0200
TZNAME:CEST
DTSTART:19700329T020000
RRULE:FREQ=YEARLY;INTERVAL=1;BYDAY=-1SU;BYMONTH=3
END:DAYLIGHT
BEGIN:STANDARD
TZOFFSETFROM:+0200
TZOFFSETTO:+0100
TZNAME:CET
DTSTART:19701025T030000
RRULE:FREQ=YEARLY;INTERVAL=1;BYDAY=-1SU;BYMONTH=10
END:STANDARD
END:VTIMEZONE
BEGIN:VEVENT
UID:e938aa541004989b9281527a071b527f@gruene-mitte.com
URL;VALUE=URI:https://gruene-mitte.com/termine/stadtteilgruppe-city-4/
LOCATION:Ort: folgt, Hamburg
SUMMARY:Stadtteilgruppe City
DESCRIPTION;ALTREP="data:text/html,%0A%3Cp%3ESo%20niedrigschwellig%20wie%
 20eine%20Briefmarke%3A%20Unsere%20Stadtteilgruppe%20City%20ist%20deine%20
 erste%20Anlaufstelle%20zwischen%20Neustadt%20und%20Hafencity%2C%20wenn%20
 du%20ein%20konkretes%20lokales%20Anliegen%20bzw.%20eine%20Frage%20hast%2C
 %20grunds%C3%A4tzlich%20etwas%20vor%20Ort%20bewegen%20m%C3%B6chtest%20ode
 r%20GR%C3%9CNEN%20Anschluss%20suchst%20%E2%80%93%20ohne%20Anmeldung%20und
 %20ohne%20Dresscode.%3C%2Fp%3E%0A%0A%0A%0A%3Cp%3EWas%20dich%20erwartet%3F
 %20Eine%20Gruppe%20von%20Gleichgesinnten%20aus%20deiner%20Nachbarschaft%2
 C%20die%20du%20sonst%20vermutlich%20nie%20kennengelernt%20h%C3%A4ttest.%2
 0Themen%20aus%20deinem%20Kiez%20aus%20neuer%20oder%20altbekannter%20Persp
 ektive.%20Diskussionen%20mit%20und%20ohne%20Tagesordnung.%20Und%20sicher%
 20auch%20die%20eine%20oder%20andere%20neugierige%20Nachfrage%20zu%20dir.%
 3C%2Fp%3E%0A%0A%0A%0A%3Cp%3EDer%20Ort%20wird%20noch%20%C3%BCber%20den%20V
 erteiler%20der%20Stadtteilgruppe%20bekannt%20gegeben.%3C%2Fp%3E%0A":So ni
 edrigschwellig wie eine Briefmarke: Unsere Stadtteilgruppe City ist deine
  erste Anlaufstelle zwischen Neustadt und Hafencity\, wenn du ein konkret
 es lokales Anliegen bzw. eine Frage hast\, grundsätzlich etwas vor Ort b
 ewegen möchtest oder GRÜNEN Anschluss suchst – ohne Anmeldung und ohn
 e Dresscode.\n\nWas dich erwartet? Eine Gruppe von Gleichgesinnten aus de
 iner Nachbarschaft\, die du sonst vermutlich nie kennengelernt hättest. 
 Themen aus deinem Kiez aus neuer oder altbekannter Perspektive. Diskussio
 nen mit und ohne Tagesordnung. Und sicher auch die eine oder andere neugi
 erige Nachfrage zu dir.\n\nDer Ort wird noch über den Verteiler der Stad
 tteilgruppe bekannt gegeben.
CLASS:PUBLIC
DTSTART;TZID=Europe/Berlin:20240924T190000
DTEND;TZID=Europe/Berlin:20240924T210000
DTSTAMP:20260425T184549
END:VEVENT
END:VCALENDAR