BEGIN:VCALENDAR
VERSION:2.0
PRODID:gruene-mitte.com
METHOD:PUBLISH
BEGIN:VTIMEZONE
TZID:Europe/Berlin
X-LIC-LOCATION:Europe/Berlin
BEGIN:DAYLIGHT
TZOFFSETFROM:+0100
TZOFFSETTO:+0200
TZNAME:CEST
DTSTART:19700329T020000
RRULE:FREQ=YEARLY;INTERVAL=1;BYDAY=-1SU;BYMONTH=3
END:DAYLIGHT
BEGIN:STANDARD
TZOFFSETFROM:+0200
TZOFFSETTO:+0100
TZNAME:CET
DTSTART:19701025T030000
RRULE:FREQ=YEARLY;INTERVAL=1;BYDAY=-1SU;BYMONTH=10
END:STANDARD
END:VTIMEZONE
BEGIN:VEVENT
UID:3ba03d0c8d03bbb4f6f5415fa5f4dc65@gruene-mitte.com
URL;VALUE=URI:https://gruene-mitte.com/termine/stadtteilgruppe-st-pauli-2
 3/
LOCATION:Pantherhaus, Lerchenstr. 37, Hamburg
SUMMARY:Stadtteilgruppe St. Pauli
DESCRIPTION;ALTREP="data:text/html,%0A%3Cp%3ESo%20niedrigschwellig%20wie%
 20eine%20Briefmarke%3A%20Unsere%20Stadtteilgruppe%20St.%20Pauli%20ist%20d
 eine%20erste%20Anlaufstelle%20zwischen%20Karoviertel%20und%20Hafenkante%2
 C%20wenn%20du%20ein%20konkretes%20lokales%20Anliegen%20bzw.%20eine%20Frag
 e%20hast%2C%20grunds%C3%A4tzlich%20etwas%20vor%20Ort%20bewegen%20m%C3%B6c
 htest%20oder%20GR%C3%9CNEN%20Anschluss%20suchst%20%E2%80%93%20ohne%20Anme
 ldung%20und%20ohne%20Dresscode.%3C%2Fp%3E%0A%0A%0A%0A%3Cp%3EWas%20dich%20
 erwartet%3F%20Eine%20Gruppe%20von%20Gleichgesinnten%20aus%20deiner%20Nach
 barschaft%2C%20die%20du%20sonst%20vermutlich%20nie%20kennengelernt%20h%C3
 %A4ttest.%20Themen%20aus%20deinem%20Kiez%20aus%20neuer%20oder%20altbekann
 ter%20Perspektive.%20Diskussionen%20mit%20und%20ohne%20Tagesordnung.%20Un
 d%20sicher%20auch%20die%20eine%20oder%20andere%20neugierige%20Nachfrage%2
 0zu%20dir.%3C%2Fp%3E%0A%0A%0A%0A%3Cp%3EDiesmal%20wieder%20im%20Pantherhau
 s%21%3C%2Fp%3E%0A":So niedrigschwellig wie eine Briefmarke: Unsere Stadtt
 eilgruppe St. Pauli ist deine erste Anlaufstelle zwischen Karoviertel und
  Hafenkante\, wenn du ein konkretes lokales Anliegen bzw. eine Frage hast
 \, grundsätzlich etwas vor Ort bewegen möchtest oder GRÜNEN Anschluss 
 suchst – ohne Anmeldung und ohne Dresscode.\n\nWas dich erwartet? Eine 
 Gruppe von Gleichgesinnten aus deiner Nachbarschaft\, die du sonst vermut
 lich nie kennengelernt hättest. Themen aus deinem Kiez aus neuer oder al
 tbekannter Perspektive. Diskussionen mit und ohne Tagesordnung. Und siche
 r auch die eine oder andere neugierige Nachfrage zu dir.\n\nDiesmal wiede
 r im Pantherhaus!
CLASS:PUBLIC
DTSTART;TZID=Europe/Berlin:20260505T190000
DTEND;TZID=Europe/Berlin:20260505T200000
DTSTAMP:20260423T143638
END:VEVENT
END:VCALENDAR